Workbook
Name _MailOriginal: 'EOB Pharmacy'!$K$39

Sheet Rules
A2: Rules:
A3: supportinginfo.sequence rule: client app implementations should look-up supportingInfo elements based on category values instead of sequence values.
A4: careTeam.sequence rule: careTeam.sequence values uniquely identify careTeam members. They do not necessarily indiate any order in which the patient was seen by the careTeam or identify any level of significance of the careTeam to the patient, etc. Client app implementations should not assign any significance to the sequence values.
A5: diagnosis.sequence rule: diagnosis.sequence values do not necessarily indiate any order in which the diagnosis was reported or identified. client app implementations should not assign any significance to the sequence values. client app implementations should use the values of diagnosis.type to identify primary, secondary, etc.
A6: procedure.sequence rule: procedure.sequence values do not necessarily indiate any order in which the procedure occurred. client app implementations should not assign any significance to the sequence values. client app implementations should use the values of procedure.type to identify primary and secondary procedures
A9: = tightening of the FHIR base model
A12: value sets owned by NUCC
A13: http://www.nucc.org/index.php/1500-claim-form-mainmenu-35/1500-instructions-mainmenu-42
A15: There are two paths to get to the Patient Resource and the data elements represented inside the Patient Resource
A16: EOB.patient(Patient)
A17: EOB.insurance.coverage(Coverage).beneficiary(Patient)
A19: For the use case returning Coverage data, there is an additional path through the Coverage Resource
... A28: CPCDS modified the concept of primary payer to other payer to accommodate situations when multiple prior payers are involved. Each amount paid by the other payer should be listed separately.

Sheet Data Element Index
A1: Map ID | B1: CMS Medicare BB 2.0 Element | C1: CARIN CPCDS Data Element Name | D1: CARIN CPCDS Description | E1: CARIN BB2.X FHIR Profile | F1: Date Harmonized | G1: FHIR Resource L0 | H1: FHIR Resource L1 Element | I1: FHIR Resource L2 Element | J1: FHIR Element Description or L3 | L4 | K1: FHIR REF / slice
A2: 1 | B2: BENE_ID | C2: Member id | D2: Unique identifier for a member assigned by the Payer. If members receive ID cards, that is the identifier that should be provided. | E2: Removed from the Coverage Profile | F2: 43740 | G2: =Coverage!$B$13 -> Coverage | H2: =Coverage!$C$13 -> beneficiary--> | J2: =Coverage!$J$13 -> Plan beneficiary | K2: =Coverage!$I$13 -> Reference(Patient).identifier
A3: 1 | B3: BENE_ID | C3: Member id | D3: Identifier for a member assigned by the Payer. If members receive ID cards, that is the identifier that should be provided. | E3: EOB Inpatient Institutional | F3: 43704 | G3: ='EOB Inpatient Institutional'!$B$15 -> ExplanationOfBenefit | H3: ='EOB Inpatient Institutional'!$C$15 -> patient--> | J3: ='EOB Inpatient Institutional'!$J$15 -> The recipient of the products and services | K3: ='EOB Inpatient Institutional'!$I$15 -> Reference(Patient)
A4: 1 | B4: BENE_ID | C4: Member id | D4: Identifier for a member assigned by the Payer. If members receive ID cards, that is the identifier that should be provided. | E4: EOB Outpatient Institutional | F4: 43704 | G4: ='EOB Outpatient Institutional'!$B$15 -> ExplanationOfBenefit | H4: ='EOB Outpatient Institutional'!$C$15 -> patient--> | J4: ='EOB Outpatient Institutional'!$J$15 -> The recipient of the products and services | K4: ='EOB Outpatient Institutional'!$I$15 -> Reference(Patient)
A5: 1 | B5: BENE_ID | C5: Member id | D5: Identifier for a member assigned by the Payer. If members receive ID cards, that is the identifier that should be provided. | E5: EOB Professional & Non-Clinician | F5: 43704 | G5: ='EOB Professional&Non-Clinician'!$B$15 -> ExplanationOfBenefit | H5: ='EOB Professional&Non-Clinician'!$C$15 -> patient--> | J5: ='EOB Professional&Non-Clinician'!$J$15 -> The recipient of the products and services | K5: ='EOB Professional&Non-Clinician'!$I$15 -> Reference(Patient)
A6: 1 | B6: BENE_ID | C6: Member id | D6: Identifier for a member assigned by the Payer. If members receive ID cards, that is the identifier that should be provided. | E6: EOB Pharmacy | F6: 43704 | G6: ='EOB Pharmacy'!$B$15 -> ExplanationOfBenefit | H6: ='EOB Pharmacy'!$C$15 -> patient--> | J6: ='EOB Pharmacy'!$J$15 -> The recipient of the products and services | K6: ='EOB Pharmacy'!$I$15 -> Reference(Patient)
A7: 1 | C7: Member id | D7: Identifier for a member assigned by the Payer. If members receive ID cards, that is the identifier that should be provided. | E7: EOB Oral | F7: added 1/4/2021 | G7: ='EOB Oral'!$B$15 -> ExplanationOfBenefit | H7: ='EOB Oral'!$C$15 -> patient--> | J7: ='EOB Oral'!$J$15 -> The recipient of the products and services | K7: ='EOB Oral'!$I$15 -> Reference(Patient)
A8: 2 | C8: Payer Identifier | D8: Issuer of the Policy | E8: Coverage | F8: 43647 | G8: =Coverage!$B$22 -> Coverage | H8: =Coverage!$C$22 -> payor--> | J8: =Coverage!$J$22 -> Issuer of the policy | K8: =Coverage!$I$22 -> Reference(Organization)
A9: 2 | C9: Claim payer Identifier | D9: Code of the payer responsible for the claim | E9: EOB Inpatient Institutional | F9: 43648 | G9: ='EOB Inpatient Institutional'!$B$19 -> ExplanationOfBenefit | H9: ='EOB Inpatient Institutional'!$C$19 -> insurer--> | J9: ='EOB Inpatient Institutional'!$J$19 -> Party responsible for reimbursement | K9: ='EOB Inpatient Institutional'!$I$19 -> Reference(Organization)
A10: 2 | C10: Claim payer Identifier | D10: Code of the payer responsible for the claim | E10: EOB Inpatient Institutional | F10: 43648 | G10: ='EOB Inpatient Institutional'!$B$287 -> ExplanationOfBenefit | H10: ='EOB Inpatient Institutional'!$C$287 -> insurance | J10: ='EOB Inpatient Institutional'!$J$287 -> Insurance information | K10: ='EOB Inpatient Institutional'!$I$287 -> Reference(Coverage)
A11: 2 | C11: Claim payer Identifier | D11: Code of the payer responsible for the claim | E11: EOB Outpatient Institutional | F11: 43648 | G11: ='EOB Outpatient Institutional'!$B$19 -> ExplanationOfBenefit | H11: ='EOB Outpatient Institutional'!$C$19 -> insurer--> | J11: ='EOB Outpatient Institutional'!$J$19 -> Party responsible for reimbursement | K11: ='EOB Outpatient Institutional'!$I$19 -> Reference(Organization)
A12: 2 | C12: Claim payer Identifier | D12: Code of the payer responsible for the claim | E12: EOB Outpatient Institutional | F12: 43648 | G12: ='EOB Outpatient Institutional'!$B$236 -> ExplanationOfBenefit | H12: ='EOB Outpatient Institutional'!$C$236 -> insurance | J12: ='EOB Outpatient Institutional'!$J$236 -> Insurance information | K12: ='EOB Outpatient Institutional'!$I$236 -> Reference(Coverage)
A13: 2 | C13: Claim payer Identifier | D13: Code of the payer responsible for the claim | E13: EOB Professional & Non-Clinician | F13: 43648 | G13: ='EOB Professional&Non-Clinician'!$B$19 -> ExplanationOfBenefit | H13: ='EOB Professional&Non-Clinician'!$C$19 -> insurer--> | J13: ='EOB Professional&Non-Clinician'!$J$19 -> Party responsible for reimbursement | K13: ='EOB Professional&Non-Clinician'!$I$19 -> Reference(Organization)
A14: 2 | C14: Claim payer Identifier | D14: Code of the payer responsible for the claim | E14: EOB Professional & Non-Clinician | F14: 43648 | G14: ='EOB Professional&Non-Clinician'!$B$190 -> ExplanationOfBenefit | H14: ='EOB Professional&Non-Clinician'!$C$190 -> insurance | J14: ='EOB Professional&Non-Clinician'!$J$190 -> Insurance information | K14: ='EOB Professional&Non-Clinician'!$I$190 -> Reference(Coverage)
A15: 2 | C15: Claim payer Identifier | D15: Code of the payer responsible for the claim | E15: EOB Pharmacy | F15: 43648 | G15: ='EOB Pharmacy'!$B$19 -> ExplanationOfBenefit | H15: ='EOB Pharmacy'!$C$19 -> insurer--> | J15: ='EOB Pharmacy'!$J$19 -> Party responsible for reimbursement | K15: ='EOB Pharmacy'!$I$19 -> Reference(Organization)
A16: 2 | C16: Claim payer Identifier | D16: Code of the payer responsible for the claim | E16: EOB Pharmacy | F16: 43648 | G16: ='EOB Pharmacy'!$B$236 -> ExplanationOfBenefit | H16: ='EOB Pharmacy'!$C$236 -> insurance | J16: ='EOB Pharmacy'!$J$236 -> Insurance information | K16: ='EOB Pharmacy'!$I$236 -> Reference(Coverage)
A17: 2 | C17: Claim payer Identifier | D17: Code of the payer responsible for the claim | E17: EOB Oral | F17: added 1/4/2021 | G17: ='EOB Oral'!$B$19 -> ExplanationOfBenefit | H17: ='EOB Oral'!$C$19 -> insurer--> | J17: ='EOB Oral'!$J$19 -> Party responsible for reimbursement | K17: ='EOB Oral'!$I$19 -> Reference(Organization)
A18: 2 | C18: Claim payer Identifier | D18: Code of the payer responsible for the claim | E18: EOB Oral | F18: added 1/4/2021 | G18: ='EOB Oral'!$B$258 -> ExplanationOfBenefit | H18: ='EOB Oral'!$C$258 -> insurance | J18: ='EOB Oral'!$J$258 -> Insurance information | K18: ='EOB Oral'!$I$258 -> Reference(Coverage)
A19: 3 | C19: Coverage type | D19: Identifies if the coverage is PPO, HMO, POS, etc. | E19: Coverage | F19: 43739 | G19: =Coverage!$B$9 -> Coverage | H19: =Coverage!$C$9 -> type | J19: =Coverage!$J$9 -> Coverage Type and Self-Pay Codes (Preferred)
A20: 6 | C20: Diagnosis code - ICD-9 admitting | D20: ICD-9-CM code describing the condition chiefly responsible for a patient's admission to a facility. It may be different from the principal diagnosis, which is the diagnosis assigned after evaluation. (UB04 Form Locator 69). Decimals will be included. | E20: EOB Inpatient Institutional | F20: 43665 | G20: ='EOB Inpatient Institutional'!$B$264 -> ExplanationOfBenefit | H20: ='EOB Inpatient Institutional'!$C$264 -> diagnosis | J20: ='EOB Inpatient Institutional'!$J$264 -> Nature of illness or problem
A21: 6 | C21: Diagnosis code - ICD-9 admitting | D21: ICD-9-CM code describing the condition chiefly responsible for a patient's admission to a facility. It may be different from the principal diagnosis, which is the diagnosis assigned after evaluation. (UB04 Form Locator 69). Decimals will be included. | E21: EOB Outpatient Institutional | F21: 43665 | G21: ='EOB Outpatient Institutional'!$B$213 -> ExplanationOfBenefit | H21: ='EOB Outpatient Institutional'!$C$213 -> diagnosis | J21: ='EOB Outpatient Institutional'!$J$213 -> Nature of illness or problem
A22: 7 | B22: PRNCPAL_DGNS_CD | C22: Diagnosis code - ICD-9 principal | D22: The member's principal condition treated during this service. (UB04 Form Locator 67). This may or may not be different from the admitting diagnosis. Decimals will be included. | E22: EOB Inpatient Institutional | F22: 43665 | G22: ='EOB Inpatient Institutional'!$B$264 -> ExplanationOfBenefit | H22: ='EOB Inpatient Institutional'!$C$264 -> diagnosis | J22: ='EOB Inpatient Institutional'!$J$264 -> Nature of illness or problem
A23: 7 | B23: PRNCPAL_DGNS_CD | C23: Diagnosis code - ICD-9 principal | D23: The member's principal condition treated during this service. (UB04 Form Locator 67). This may or may not be different from the admitting diagnosis. Decimals will be included. | E23: EOB Outpatient Institutional | F23: 43665 | G23: ='EOB Outpatient Institutional'!$B$213 -> ExplanationOfBenefit | H23: ='EOB Outpatient Institutional'!$C$213 -> diagnosis | J23: ='EOB Outpatient Institutional'!$J$213 -> Nature of illness or problem
A24: 7 | B24: PRNCPAL_DGNS_CD | C24: Diagnosis code - ICD-9 principal | D24: The member's principal condition treated during this service. | E24: EOB Professional & Non-Clinician | F24: 43665 | G24: ='EOB Professional&Non-Clinician'!$B$167 -> ExplanationOfBenefit | H24: ='EOB Professional&Non-Clinician'!$C$167 -> diagnosis | J24: ='EOB Professional&Non-Clinician'!$J$167 -> Nature of illness or problem
A25: 7 | C25: Diagnosis code - ICD-9 principal | D25: The member's principal condition treated during this service. | E25: EOB Oral | F25: added 1/4/2021 | G25: ='EOB Oral'!$B$235 -> ExplanationOfBenefit | H25: ='EOB Oral'!$C$235 -> diagnosis | J25: ='EOB Oral'!$J$235 -> Nature of illness or problem
A26: 8 | B26: ICD_DGNS_CD(1-25) | C26: Diagnosis code - ICD-9 secondary | D26: Additional diagnosis identified for this member. Decimals will be included. | E26: EOB Inpatient Institutional | F26: 43665 | G26: ='EOB Inpatient Institutional'!$B$264 -> ExplanationOfBenefit | H26: ='EOB Inpatient Institutional'!$C$264 -> diagnosis | J26: ='EOB Inpatient Institutional'!$J$264 -> Nature of illness or problem
A27: 8 | B27: ICD_DGNS_CD(1-25) | C27: Diagnosis code - ICD-9 secondary | D27: Additional diagnosis identified for this member. Decimals will be included. | E27: EOB Outpatient Institutional | F27: 43665 | G27: ='EOB Outpatient Institutional'!$B$213 -> ExplanationOfBenefit | H27: ='EOB Outpatient Institutional'!$C$213 -> diagnosis | J27: ='EOB Outpatient Institutional'!$J$213 -> Nature of illness or problem
A28: 8 | B28: ICD_DGNS_CD(1-25) | C28: Diagnosis code - ICD-9 secondary | D28: Additional diagnosis identified for this member. Decimals will be included. | E28: EOB Professional & Non-Clinician | F28: 43665 | G28: ='EOB Professional&Non-Clinician'!$B$167 -> ExplanationOfBenefit | H28: ='EOB Professional&Non-Clinician'!$C$167 -> diagnosis | J28: ='EOB Professional&Non-Clinician'!$J$167 -> Nature of illness or problem
A29: 8 | D29: Additional diagnosis identified for this member. Decimals will be included. | E29: EOB Oral | F29: added 1/4/2021 | G29: ='EOB Oral'!$B$235 -> ExplanationOfBenefit | H29: ='EOB Oral'!$C$235 -> diagnosis | J29: ='EOB Oral'!$J$235 -> Nature of illness or problem
A30: 9 | C30: Procedure Code - ICD-9 PCS principal | D30: Principal medical procedure a patient received during inpatient stay. Current coding methods include: International Classification of Diseases Surgical Procedures (ICD-9). Information located on UB04 (Form Locator 74). | E30: EOB Inpatient Institutional | F30: 43665 | G30: ='EOB Inpatient Institutional'!$B$278 -> ExplanationOfBenefit | H30: ='EOB Inpatient Institutional'!$C$278 -> procedure | J30: ='EOB Inpatient Institutional'!$J$278 -> Specific clinical procedure
A31: 10 | C31: Procedure Date - ICD-9 principal | D31: Date of Procedure. Information located on UB04 (Form Locator 74). | E31: EOB Inpatient Institutional | F31: 43665 | G31: ='EOB Inpatient Institutional'!$B$277 -> ExplanationOfBenefit | H31: ='EOB Inpatient Institutional'!$C$277 -> procedure | J31: ='EOB Inpatient Institutional'!$J$277 -> When the procedure was performed
A32: 11 | C32: Procedure Code - ICD-9 secondary | D32: Additional surgical procedure surgical (ICD-9) administered during inpatient stay. | E32: EOB Inpatient Institutional | F32: 43665 | G32: ='EOB Inpatient Institutional'!$B$278 -> ExplanationOfBenefit | H32: ='EOB Inpatient Institutional'!$C$278 -> procedure | J32: ='EOB Inpatient Institutional'!$J$278 -> Specific clinical procedure
A33: 12 | C33: Procedure Date - ICD-9 secondary | D33: Date of Procedure. (UB04 Form Locator 74). | E33: EOB Inpatient Institutional | F33: 43665 | G33: ='EOB Inpatient Institutional'!$B$277 -> ExplanationOfBenefit | H33: ='EOB Inpatient Institutional'!$C$277 -> procedure | J33: ='EOB Inpatient Institutional'!$J$277 -> When the procedure was performed
A34: 13 | B34: CLM_SRC_IP_ADMSN_CD | C34: Claim Point of Origin for Admission or Visit | D34: Identifies the place where the patient was identified as needing admission to a facility. This is a two position code mapped from the standard values for the UB-04 Source of Admission code (FL-15). | E34: EOB Inpatient Institutional | F34: 43644 | G34: ='EOB Inpatient Institutional'!$B$147 -> ExplanationOfBenefit | H34: ='EOB Inpatient Institutional'!$C$147 -> supportingInfo | I34: ='EOB Inpatient Institutional'!$D$147 -> code | J34: ='EOB Inpatient Institutional'!$J$147 -> Type of information | K34: ='EOB Inpatient Institutional'!$A$147 -> pointoforigin
A35: 13 | B35: CLM_SRC_IP_ADMSN_CD | C35: Claim Point of Origin for Admission or Visit | D35: Identifies the place where the patient was identified as needing admission to a facility. This is a two position code mapped from the standard values for the UB-04 Source of Admission code (FL-15). | E35: EOB Outpatient Institutional | F35: 43644 | G35: ='EOB Outpatient Institutional'!$B$113 -> ExplanationOfBenefit | H35: ='EOB Outpatient Institutional'!$C$113 -> supportingInfo | I35: ='EOB Outpatient Institutional'!$D$113 -> code | J35: ='EOB Outpatient Institutional'!$J$113 -> Type of information | K35: ='EOB Outpatient Institutional'!$A$113 -> pointoforigin
A36: 14 | B36: CLM_IP_ADMSN_TYPE_CD | C36: Claim Priority (Type) of Admission or Visit | D36: Priority of the admission. Information located on (UB04 Form Locator 14). For example, an admission type of elective indicates that the patient's condition permitted time for medical services to be scheduled. | E36: EOB Inpatient Institutional | F36: 43644 | G36: ='EOB Inpatient Institutional'!$B$164 -> ExplanationOfBenefit | H36: ='EOB Inpatient Institutional'!$C$164 -> supportingInfo | I36: ='EOB Inpatient Institutional'!$D$164 -> code | J36: ='EOB Inpatient Institutional'!$J$164 -> Type of information | K36: ='EOB Inpatient Institutional'!$A$164 -> admtype
A37: 14 | B37: CLM_IP_ADMSN_TYPE_CD | C37: Claim Priority (Type) of Admission or Visit | D37: Priority of the admission. Information located on (UB04 Form Locator 14). For example, an admission type of elective indicates that the patient's condition permitted time for medical services to be scheduled. | E37: EOB Outpatient Institutional | F37: 43644 | G37: ='EOB Outpatient Institutional'!$B$130 -> ExplanationOfBenefit | H37: ='EOB Outpatient Institutional'!$C$130 -> supportingInfo | I37: ='EOB Outpatient Institutional'!$D$130 -> code | J37: ='EOB Outpatient Institutional'!$J$130 -> Type of information | K37: ='EOB Outpatient Institutional'!$A$130 -> admtype
A38: 15 | B38: NCH_NEAR_LINE_REC_IDENT_CD | C38: Claim sub type | D38: High-level categorization of the claim. | E38: EOB Inpatient Institutional | F38: Re-added Feb 2021 | G38: ='EOB Inpatient Institutional'!$B$11 -> ExplanationOfBenefit | H38: ='EOB Inpatient Institutional'!$C$11 -> subtype | J38: ='EOB Inpatient Institutional'!$J$11 -> More granular claim type
A39: 15 | B39: NCH_NEAR_LINE_REC_IDENT_CD | C39: Claim sub type | D39: High-level categorization of the claim. | E39: EOBOutpatient Institutional | F39: Re-added Feb 2021 | G39: ='EOB Outpatient Institutional'!$B$11 -> ExplanationOfBenefit | H39: ='EOB Outpatient Institutional'!$C$11 -> subtype | J39: ='EOB Outpatient Institutional'!$J$11 -> More granular claim type
A40: 15 | B40: NCH_NEAR_LINE_REC_IDENT_CD | C40: Claim sub type | D40: High-level categorization of the claim. | E40: Removed from scope | F40: Removed from scope | G40: ='EOB Professional&Non-Clinician'!$B$11 -> ExplanationOfBenefit | H40: ='EOB Professional&Non-Clinician'!$C$11 -> subtype | J40: ='EOB Outpatient Institutional'!$J$11 -> More granular claim type
...

Sheet Coverage
A1: Slice | B1: L0 | C1: L1 | D1: L2 | E1: L3 | F1: L4 | G1: Flag | H1: Cardinality | I1: DataType / Value Set | J1: Description | K1: CPCDS MapID | L1: CPCDS Data Element Name | M1: Cardinality / DataType | N1: Value Set Comments | O1: Working Note
B2: Coverage | G2: TU | I2: DomainResource | J2: Insurance or medical plan or a payment agreement
B3: Coverage | J3: Elements defined in Ancestors: id, meta, implicitRules, language, text, contained, extension, modifierExtension
B4: Coverage | C4: extension | D4: medicalCOB | H4: 1..* | I4: CodeableConcept | J4: Indicates whether the Plan’s responsibility for this member's coverage is primary or secondary. | M4: [1..1] CHAR(1)
B5: Coverage | C5: identifier | G5: Σ | H5: 0..* | I5: Identifier | J5: Business Identifier for the coverage
B6: Coverage | C6: status | G6: ?!Σ | H6: 1..1 | I6: code | J6: active | cancelled | draft | entered-in-error | K6: 133 | L6: ='Data Element Index'!$C$315 -> Coverage status | N6: default: active
B7: Coverage | C7: status | J7: Financial Resource Status Codes (Required) | K7: 133
B8: Coverage | C8: type | G8: Σ | H8: 0..1 | I8: CodeableConcept | J8: Coverage category such as medical or accident | K8: ='Data Element Index'!$A$19 -> 3 | L8: ='Data Element Index'!$C$19 -> Coverage type | M8: [1..*]
B9: Coverage | C9: type | J9: Coverage Type and Self-Pay Codes (Preferred) | K9: ='Data Element Index'!$A$19 -> 3 | L9: ='Data Element Index'!$C$19 -> Coverage type
B10: Coverage | C10: policyHolder | G10: Σ | H10: 0..1 | I10: Reference(Patient | RelatedPerson | Organization) | J10: Owner of the policy
B11: Coverage | C11: subscriber | G11: Σ | H11: 0..1 | I11: Reference(Patient | RelatedPerson) | J11: Subscriber to the policy
B12: Coverage | C12: subscriberId | G12: Σ | H12: 1..1 | I12: string | J12: ID assigned to the subscriber | K12: 132 | L12: ='Data Element Index'!$C$314 -> Subscriber id
B13: Coverage | C13: beneficiary--> | G13: Σ | H13: 1..1 | I13: Reference(Patient).identifier | J13: Plan beneficiary | K13: Ref (1) | L13: ='Data Element Index'!$C$2 -> Member id | O13: alternate path: EOB.patient(Patient).identifier
B14: Coverage | C14: beneficiary--> | G14: Σ | H14: 1..1 | I14: Reference(Patient) | J14: Plan beneficiary | K14: Ref (70) | L14: ='Data Element Index'!$C$199 -> Date of birth | M14: =Patient!$M$24 -> [1..1] (TS8)
B15: Coverage | C15: beneficiary--> | G15: Σ | H15: 1..1 | I15: Reference(Patient) | J15: Plan beneficiary | K15: Ref (124) | L15: ='Data Element Index'!$C$306 -> Date of death | M15: =Patient!$M$27 -> [1..1] (TS8)
B16: Coverage | C16: beneficiary--> | G16: Σ | H16: 1..1 | I16: Reference(Patient) | J16: Plan beneficiary | K16: Ref (150) | L16: ='Data Element Index'!$C$346 -> Deceased | M16: =Patient!$M$26 -> BOOLEAN
B17: Coverage | C17: beneficiary--> | G17: Σ | H17: 1..1 | I17: Reference(Patient) | J17: Plan beneficiary | K17: Ref (71) | L17: ='Data Element Index'!$C$200 -> Gender code | M17: =Patient!$M$22 -> [1..1] (CD-CHAR(1))
B18: Coverage | C18: dependent | G18: Σ | H18: 0..1 | I18: string | J18: Dependent number
B19: Coverage | C19: relationship | H19: 0..1 | I19: CodeableConcept | J19: Beneficiary relationship to the subscriber | K19: 72 | L19: ='Data Element Index'!$C$201 -> Relationship to subscriber | M19: [1..1] (CD-CHAR(2)) | N19: coding.system = http://terminology.hl7.org/CodeSystem/subscriber-relationship coding.code = the code value
B20: Coverage | C20: relationship | J20: SubscriberPolicyholder Relationship Codes (Extensible) | K20: 72 | L20: ='Data Element Index'!$C$201 -> Relationship to subscriber | M20: [1..1] (CD-CHAR(2)) | N20: http://www.hl7.org/fhir/valueset-subscriber-relationship.html
B21: Coverage | C21: period | G21: Σ | H21: 0..1 | I21: Period | J21: Coverage start and end dates | K21: 74, 75 | L21: Start Date, End Date
B22: Coverage | C22: payor--> | G22: Σ | H22: 1..1 | I22: Reference(Organization) | J22: Issuer of the policy | K22: Ref (2) | L22: Claim Payer Identifier
A23: plan | B23: Coverage | C23: class | H23: 0..* | I23: BackboneElement | J23: Additional coverage classifications
A24: plan | B24: Coverage | C24: class | D24: type | G24: Σ | H24: 1..1 | I24: CodeableConcept | J24: Type of class such as 'group' or 'plan'
A25: plan | B25: Coverage | C25: class | D25: type | J25: Coverage Class Codes (Extensible)
A26: plan | B26: Coverage | C26: class | D26: value | G26: Σ | H26: 1..1 | I26: string | J26: Value associated with the type | K26: 154 | L26: ='Data Element Index'!$C$350 -> Plan Identifier
A27: plan | B27: Coverage | C27: class | D27: name | G27: Σ | H27: 0..1 | I27: string | J27: Human readable description of the type and value | K27: 155 | L27: ='Data Element Index'!$C$351 -> Plan Name
A28: group | B28: Coverage | C28: class | H28: 0..* | I28: BackboneElement | J28: Additional coverage classifications
A29: group | B29: Coverage | C29: class | D29: type | G29: Σ | H29: 1..1 | I29: CodeableConcept | J29: Type of class such as 'group' or 'plan'
A30: group | B30: Coverage | C30: class | D30: type | J30: Coverage Class Codes (Extensible)
A31: group | B31: Coverage | C31: class | D31: value | G31: Σ | H31: 1..1 | I31: string | J31: Value associated with the type | K31: 134 | L31: ='Data Element Index'!$C$316 -> Group id
A32: group | B32: Coverage | C32: class | D32: name | G32: Σ | H32: 0..1 | I32: string | J32: Human readable description of the type and value | K32: 135 | L32: ='Data Element Index'!$C$317 -> Group name
B33: Coverage | C33: order | G33: Σ | H33: 0..1 | I33: positiveInt | J33: Relative order of the coverage | M33: [1..1] NUMERIC(1)
B34: Coverage | C34: network | G34: Σ | H34: 0..1 | I34: string | J34: Insurer network
B35: Coverage | C35: costToBeneficiary | H35: 0..* | I35: BackboneElement | J35: Patient payments for services/products
B36: Coverage | C36: costToBeneficiary | D36: type | G36: Σ | H36: 0..1 | I36: CodeableConcept | J36: Cost category
B37: Coverage | C37: costToBeneficiary | D37: type | J37: Coverage Copay Type Codes (Extensible)
B38: Coverage | C38: costToBeneficiary | D38: value | G38: Σ | H38: 1..1 | J38: The amount or percentage due from the beneficiary
B39: Coverage | C39: costToBeneficiary | D39: value | E39: valueQuantity | I39: SimpleQuantity
B40: Coverage | C40: costToBeneficiary | D40: value | E40: valueMoney | I40: Money
...

Sheet EOB Base
A1: Slice | B1: L0 | C1: L1 | D1: L2 | E1: L3 | F1: L4 | G1: Flag | H1: Cardinality | I1: DataType / Value Set | J1: Description
B2: ExplanationOfBenefit | G2: TU | I2: DomainResource | J2: Explanation of Benefit resource
B3: ExplanationOfBenefit | J3: Elements defined in Ancestors: id, meta, implicitRules, language, text, contained, extension, modifierExtension
B4: ExplanationOfBenefit | C4: identifier | H4: 1..* | I4: Identifier | J4: Business Identifier for the resource
B5: ExplanationOfBenefit | C5: status | G5: ?!Σ | H5: 1..1 | I5: code | J5: active | cancelled | draft | entered-in-error
B6: ExplanationOfBenefit | C6: status | J6: ExplanationOfBenefitStatus (Required)
B7: ExplanationOfBenefit | C7: type | G7: Σ | H7: 1..1 | I7: CodeableConcept | J7: Category or discipline
B8: ExplanationOfBenefit | C8: type | J8: Claim Type Codes (Extensible)
B9: ExplanationOfBenefit | C9: subtype | H9: 0..1 | I9: CodeableConcept | J9: More granular claim type
B10: ExplanationOfBenefit | C10: subtype | J10: Example Claim SubType Codes (Example)
B11: ExplanationOfBenefit | C11: use | G11: Σ | H11: 1..1 | I11: code | J11: claim | preauthorization | predetermination
B12: ExplanationOfBenefit | C12: use | J12: Use (Required)
B13: ExplanationOfBenefit | C13: patient--> | G13: Σ | H13: 1..1 | I13: Reference(Patient) | J13: The recipient of the products and services
B14: ExplanationOfBenefit | C14: billablePeriod | G14: Σ | H14: 0..1 | I14: Period | J14: Relevant time frame for the claim
B15: ExplanationOfBenefit | C15: created | G15: Σ | H15: 1..1 | I15: dateTime | J15: Response creation date
B16: ExplanationOfBenefit | C16: enterer--> | H16: 0..1 | I16: Reference(Practitioner | PractitionerRole) | J16: Author of the claim
B17: ExplanationOfBenefit | C17: insurer--> | G17: Σ | H17: 1..1 | I17: Reference(Organization) | J17: Party responsible for reimbursement
B18: ExplanationOfBenefit | C18: provider--> | G18: Σ | H18: 1..1 | I18: Reference(PractionerRole) | J18: Party responsible for the claim
B19: ExplanationOfBenefit | C19: priority | H19: 0..1 | I19: CodeableConcept | J19: Desired processing urgency
B20: ExplanationOfBenefit | C20: priority | J20: ProcessPriority
B21: ExplanationOfBenefit | C21: fundsReservedRequested | H21: 0..1 | I21: CodeableConcept | J21: For whom to reserve funds
B22: ExplanationOfBenefit | C22: fundsReservedRequested | J22: FundsReserve (Example)
B23: ExplanationOfBenefit | C23: fundsReserve | H23: 0..1 | I23: CodeableConcept | J23: Funds reserved status
B24: ExplanationOfBenefit | C24: fundsReserve | J24: FundsReserve (Example)
B25: ExplanationOfBenefit | C25: related | H25: 0..* | I25: BackboneElement | J25: Prior or corollary claims
B26: ExplanationOfBenefit | C26: related | D26: claim--> | H26: 0..1 | I26: Reference(Claim) | J26: Reference to the related claim
B27: ExplanationOfBenefit | C27: related | D27: relationship | H27: 1..1 | I27: CodeableConcept | J27: How the reference claim is related
B28: ExplanationOfBenefit | C28: related | D28: relationship | J28: Example Related Claim Relationship Codes (Example)
B29: ExplanationOfBenefit | C29: related | D29: reference | H29: 1..1 | I29: Identifier | J29: File or case reference
B30: ExplanationOfBenefit | C30: prescription--> | H30: 0..1 | I30: Reference(MedicationRequest| VisionPrescription) | J30: Prescription authorizing services or products
B31: ExplanationOfBenefit | C31: originalPrescription--> | H31: 0..1 | I31: Reference(MedicationRequest) | J31: Original prescription if superceded by fulfiller
B32: ExplanationOfBenefit | C32: payee | H32: 0..1 | I32: BackboneElement | J32: Recipient of benefits payable
B33: ExplanationOfBenefit | C33: payee | D33: type | H33: 0..1 | I33: CodeableConcept | J33: Category of recipient
B34: ExplanationOfBenefit | C34: payee | D34: type | J34: PayeeType (Example)
B35: ExplanationOfBenefit | C35: payee | D35: party--> | H35: 0..1 | I35: Reference(Practitioner | PractitionerRole | Organization | Patient | RelatedPerson) | J35: Recipient reference
B36: ExplanationOfBenefit | C36: referral--> | H36: 0..1 | I36: Reference(ServiceRequest) | J36: Treatment Referral
B37: ExplanationOfBenefit | C37: facility--> | H37: 0..1 | I37: Reference(Location) | J37: Servicing Facility
B38: ExplanationOfBenefit | C38: claim--> | H38: 0..1 | I38: Reference(Claim) | J38: Claim reference
B39: ExplanationOfBenefit | C39: claimResponse--> | H39: 0..1 | I39: Reference(ClaimResponse) | J39: Claim response reference
B40: ExplanationOfBenefit | C40: outcome | G40: Σ | H40: 1..1 | I40: code | J40: queued | complete | error | partial
...

Sheet EOB Inpatient Institutional
A1: Slice | B1: L0 | C1: L1 | D1: L2 | E1: L3 | F1: L4 | G1: Flag | H1: Cardinality | I1: DataType / Value Set | J1: Description | K1: CPCDS MapID | L1: CPCDS Data Element Name | M1: Cardinality / DataType | N1: Value Set Comments | O1: Working Note
B2: ExplanationOfBenefit | G2: TU | I2: DomainResource | J2: Explanation of Benefit resource
B3: ExplanationOfBenefit | J3: Elements defined in Ancestors: id, meta, implicitRules, language, text, contained, extension, modifierExtension
B4: ExplanationOfBenefit | C4: identifier | H4: 1..* | I4: Identifier | J4: Business Identifier for the resource | K4: ='Data Element Index'!$A$171 -> 35 | L4: ='Data Element Index'!$C$171 -> Payer claim unique identifier
B5: ExplanationOfBenefit | C5: identifier | D5: type | H5: 1..* | I5: CodeableConcept | J5: Description of identifier | K5: ='Data Element Index'!$A$423 -> 183 | L5: ='Data Element Index'!$C$423 -> Claim Identifier Type | M5: [1..1] | N5: value = uc and those in code system Identfiertype
B6: ExplanationOfBenefit | C6: identifier | D6: type | J6: IdentifierType (Extensible) | K6: ='Data Element Index'!$A$423 -> 183 | L6: ='Data Element Index'!$C$423 -> Claim Identifier Type
B7: ExplanationOfBenefit | C7: status | G7: ?!Σ | H7: 1..1 | I7: code | J7: active | cancelled | draft | entered-in-error | K7: 140 | L7: ='Data Element Index'!$C$319 -> Claim processing status code | N7: value = active | cancelled
B8: ExplanationOfBenefit | C8: status | J8: ExplanationOfBenefitStatus (Required)
B9: ExplanationOfBenefit | C9: type | G9: Σ | H9: 1..1 | I9: CodeableConcept | J9: Category or discipline | K9: 16 | L9: ='Data Element Index'!$C$42 -> Claim type | N9: values: Inpatient Institutional
B10: ExplanationOfBenefit | C10: type | J10: Claim Type Codes (Extensible) | K10: 16 | L10: ='Data Element Index'!$C$42 -> Claim type | N10: http://terminology.hl7.org/CodeSystem/claim-type | O10: Defines the Claims profiles (there is also a Coverage profile).
B11: ExplanationOfBenefit | C11: subtype | H11: 0..1 | I11: CodeableConcept | J11: More granular claim type | K11: ='Data Element Index'!$A$38 -> 15 | L11: ='Data Element Index'!$C$38 -> Claim sub type | N11: value = 'institutionalinpatient'
B12: ExplanationOfBenefit | C12: subtype | J12: Example Claim SubType Codes (Example) | K12: ='Data Element Index'!$A$38 -> 15 | L12: ='Data Element Index'!$C$38 -> Claim sub type | N12: C4BB Institutional Claim Sub Type
B13: ExplanationOfBenefit | C13: use | G13: Σ | H13: 1..1 | I13: code | J13: claim | preauthorization | predetermination | K13: New | N13: value = claim
B14: ExplanationOfBenefit | C14: use | J14: Use (Required)
B15: ExplanationOfBenefit | C15: patient--> | G15: Σ | H15: 1..1 | I15: Reference(Patient) | J15: The recipient of the products and services | K15: Ref (1) | L15: ='Data Element Index'!$C$2 -> Member id | M15: [1.1] (CHAR) | O15: Additional required path: EOB.insurance.coverage(Coverage).beneficiary(Patient).identifier
B16: ExplanationOfBenefit | C16: billablePeriod | G16: Σ | H16: 1..1 | I16: Period | J16: Relevant time frame for the claim | K16: 177, 178 | L16: Statement From Date Statement Through Date | M16: [1..1] (TS8) | N16: period.start period.end
B17: ExplanationOfBenefit | C17: created | G17: Σ | H17: 1..1 | I17: dateTime | J17: Adjudication date | K17: 179 | L17: ='Data Element Index'!$C$411 -> Adjudication Date | M17: [1..1] (TS8) | O17: Date the claim was adjudicated
B18: ExplanationOfBenefit | C18: enterer--> | H18: 0..1 | I18: Reference(Practitioner | PractitionerRole) | J18: Author of the claim
B19: ExplanationOfBenefit | C19: insurer--> | G19: Σ | H19: 1..1 | I19: Reference(Organization) | J19: Party responsible for reimbursement | K19: Ref (2, 5) | L19: ='Data Element Index'!$C$9 -> Claim payer Identifier | N19: Organization.identifier | O19: Same as insurance.coverage.organization. Party responsible for reimbursing the provider.
B20: ExplanationOfBenefit | C20: insurer--> | G20: Σ | H20: 1..1 | I20: Reference(Organization) | J20: Party responsible for reimbursement | K20: Ref (175) | L20: ='Data Element Index'!$C$391 -> Claim payer Name | N20: Organization.name | O20: Same as insurance.coverage.organization. Party responsible for reimbursing the provider.
B21: ExplanationOfBenefit | C21: provider--> | G21: Σ | H21: 1..1 | I21: Reference(Organization) | J21: Party responsible for the claim | K21: Ref (94) | L21: ='Data Element Index'!$C$232 -> Claim billing provider NPI | M21: =Practitioner!$M$5 -> [1..1] CHAR(10) | N21: Organization.identifier
B22: ExplanationOfBenefit | C22: provider--> | G22: Σ | H22: 1..1 | I22: Reference(Organization) | J22: Party responsible for the claim | K22: Ref (167) | L22: ='Data Element Index'!$C$369 -> Claim billing provider name
B23: ExplanationOfBenefit | C23: priority | H23: 0..1 | I23: CodeableConcept | J23: Desired processing urgency
B24: ExplanationOfBenefit | C24: priority | J24: ProcessPriority (Example)
B25: ExplanationOfBenefit | C25: fundsReservedRequested | H25: 0..1 | I25: CodeableConcept | J25: For whom to reserve funds
B26: ExplanationOfBenefit | C26: fundsReservedRequested | J26: FundsReserve (Example)
B27: ExplanationOfBenefit | C27: fundsReserve | H27: 0..1 | I27: CodeableConcept | J27: Funds reserved status
B28: ExplanationOfBenefit | C28: fundsReserve | J28: FundsReserve (Example)
B29: ExplanationOfBenefit | C29: related | H29: 0..* | I29: BackboneElement | J29: Prior or corollary claims | K29: 111, 112 | L29: Claim adjusted from identifier Claim adjusted to identifier
B30: ExplanationOfBenefit | C30: related | D30: claim--> | H30: 0..1 | I30: Reference(Claim) | J30: Reference to the related claim
B31: ExplanationOfBenefit | C31: related | D31: relationship | H31: 0..1 | I31: CodeableConcept | J31: How the reference claim is related | K31: New(111, 112)
B32: ExplanationOfBenefit | C32: related | D32: relationship | J32: Example Related Claim Relationship Codes (Example) | K32: New(111, 112) | N32: values set Example Related Claim Relationship Codes prior | replaced by request adding replaced by or merged
B33: ExplanationOfBenefit | C33: related | D33: reference | H33: 0..1 | I33: Identifier | J33: File or case reference | K33: 111, 112
B34: ExplanationOfBenefit | C34: prescription--> | H34: 0..1 | I34: Reference(MedicationRequest| VisionPrescription) | J34: Prescription authorizing services or products
B35: ExplanationOfBenefit | C35: originalPrescription--> | H35: 0..1 | I35: Reference(MedicationRequest) | J35: Original prescription if superceded by fulfiller
B36: ExplanationOfBenefit | C36: payee | H36: 1..1 | I36: BackboneElement | J36: Recipient of benefits payable | K36: 120
B37: ExplanationOfBenefit | C37: payee | D37: type | H37: 1..1 | I37: CodeableConcept | J37: Category of recipient | K37: 120 | L37: ='Data Element Index'!$C$294 -> Claim payee type code
B38: ExplanationOfBenefit | C38: payee | D38: type | J38: PayeeType (Required) | K38: 120 | L38: ='Data Element Index'!$C$294 -> Claim payee type code | N38: subscriber | provider | beneficiary | other
B39: ExplanationOfBenefit | C39: payee | D39: party--> | H39: 1..1 | I39: Reference(Organization | Practioner | Patient) | J39: Recipient reference | K39: Ref (121) | L39: ='Data Element Index'!$C$299 -> Claim payee
B40: ExplanationOfBenefit | C40: referral--> | H40: 0..1 | I40: Reference(ServiceRequest) | J40: Treatment Referral
...

Sheet EOB Outpatient Institutional
A1: Slice | B1: L0 | C1: L1 | D1: L2 | E1: L3 | F1: L4 | G1: Flag | H1: Cardinality | I1: DataType / Value Set | J1: Description | K1: CPCDS MapID | L1: CARIN CPCDS Data Element Name | M1: Cardinality / DataType | N1: Value Set Comments | O1: Working Note
B2: ExplanationOfBenefit | G2: TU | I2: DomainResource | J2: Explanation of Benefit resource
B3: ExplanationOfBenefit | J3: Elements defined in Ancestors: id, meta, implicitRules, language, text, contained, extension, modifierExtension
B4: ExplanationOfBenefit | C4: identifier | H4: 1..* | I4: Identifier | J4: Business Identifier for the resource | K4: ='Data Element Index'!$A$171 -> 35 | L4: ='Data Element Index'!$C$171 -> Payer claim unique identifier
B5: ExplanationOfBenefit | C5: identifier | D5: type | H5: 1..* | I5: CodeableConcept | J5: Description of identifier | K5: ='Data Element Index'!$A$424 -> 183 | L5: ='Data Element Index'!$C$424 -> Claim Identifier Type | M5: [1..1] | N5: value = uc and those in code system Identfiertype
B6: ExplanationOfBenefit | C6: identifier | D6: type | J6: IdentifierType (Extensible) | K6: ='Data Element Index'!$A$424 -> 183 | L6: ='Data Element Index'!$C$424 -> Claim Identifier Type
B7: ExplanationOfBenefit | C7: status | G7: ?!Σ | H7: 1..1 | I7: code | J7: active | cancelled | draft | entered-in-error | K7: 140 | L7: ='Data Element Index'!$C$320 -> Claim processing status code | N7: value = active | cancelled
B8: ExplanationOfBenefit | C8: status | J8: ExplanationOfBenefitStatus (Required)
B9: ExplanationOfBenefit | C9: type | G9: Σ | H9: 1..1 | I9: CodeableConcept | J9: Category or discipline | K9: 16 | L9: ='Data Element Index'!$C$43 -> Claim type | N9: values: Outpatient Facility
B10: ExplanationOfBenefit | C10: type | J10: Claim Type Codes (Extensible) | K10: 16 | L10: ='Data Element Index'!$C$43 -> Claim type | N10: http://terminology.hl7.org/CodeSystem/claim-type | O10: These define the Claims profiles (there is also a Coverage profile).
B11: ExplanationOfBenefit | C11: subtype | H11: 0..1 | I11: CodeableConcept | J11: More granular claim type | K11: ='Data Element Index'!$A$39 -> 15 | L11: ='Data Element Index'!$C$39 -> Claim sub type | N11: value = 'institutionaloutpatient'
B12: ExplanationOfBenefit | C12: subtype | J12: Example Claim SubType Codes (Example) | K12: ='Data Element Index'!$A$39 -> 15 | L12: ='Data Element Index'!$C$39 -> Claim sub type | N12: C4BB Institutional Claim Sub Type
B13: ExplanationOfBenefit | C13: use | G13: Σ | H13: 1..1 | I13: code | J13: claim | preauthorization | predetermination | K13: New | N13: value = claim
B14: ExplanationOfBenefit | C14: use | J14: Use (Required)
B15: ExplanationOfBenefit | C15: patient--> | G15: Σ | H15: 1..1 | I15: Reference(Patient) | J15: The recipient of the products and services | K15: Ref (1) | L15: ='Data Element Index'!$C$2 -> Member id | O15: Refer to the Implementation Guide for reference Resource support.
B16: ExplanationOfBenefit | C16: billablePeriod | G16: Σ | H16: 0..1 | I16: Period | J16: Relevant time frame for the claim | K16: 177, 178 | L16: Statement From Date Statement Through Date | M16: [1..1] (TS8) | N16: period.start period.end
B17: ExplanationOfBenefit | C17: created | G17: Σ | H17: 1..1 | I17: dateTime | J17: Adjudication date | K17: 179 | L17: ='Data Element Index'!$C$411 -> Adjudication Date | M17: [1..1] (TS8) | O17: Date the claim was adjudicated
B18: ExplanationOfBenefit | C18: enterer--> | H18: 0..1 | I18: Reference(Practitioner | PractitionerRole) | J18: Author of the claim
B19: ExplanationOfBenefit | C19: insurer--> | G19: Σ | H19: 1..1 | I19: Reference(Organization) | J19: Party responsible for reimbursement | K19: Ref (2, 5) | L19: ='Data Element Index'!$C$11 -> Claim payer Identifier | N19: Organization.identifier | O19: Same as insurance.coverage.organization. Party responsible for reimbursing the provider.
B20: ExplanationOfBenefit | C20: insurer--> | G20: Σ | H20: 1..1 | I20: Reference(Organization) | J20: Party responsible for reimbursement | K20: Ref (175) | L20: ='Data Element Index'!$C$393 -> Claim payer Name | N20: Organization.name | O20: Same as insurance.coverage.organization. Party responsible for reimbursing the provider.
B21: ExplanationOfBenefit | C21: provider--> | G21: Σ | H21: 1..1 | I21: Reference(Organization) | J21: Party responsible for the claim | K21: Ref (94) | L21: ='Data Element Index'!$C$232 -> Claim billing provider NPI | M21: =Practitioner!$M$4 -> 0 | N21: Organization.identifier
B22: ExplanationOfBenefit | C22: provider--> | G22: Σ | H22: 1..1 | I22: Reference(Organization) | J22: Party responsible for the claim | K22: Ref (167) | L22: ='Data Element Index'!$C$369 -> Claim billing provider name
B23: ExplanationOfBenefit | C23: priority | H23: 0..1 | I23: CodeableConcept | J23: Desired processing urgency
B24: ExplanationOfBenefit | C24: priority | J24: ProcessPriority
B25: ExplanationOfBenefit | C25: fundsReservedRequested | H25: 0..1 | I25: CodeableConcept | J25: For whom to reserve funds
B26: ExplanationOfBenefit | C26: fundsReservedRequested | J26: FundsReserve (Example)
B27: ExplanationOfBenefit | C27: fundsReserve | H27: 0..1 | I27: CodeableConcept | J27: Funds reserved status
B28: ExplanationOfBenefit | C28: fundsReserve | J28: FundsReserve (Example)
B29: ExplanationOfBenefit | C29: related | H29: 0..* | I29: BackboneElement | J29: Prior or corollary claims | K29: 111, 112 | L29: Claim adjusted from identifier Claim adjusted to identifier
B30: ExplanationOfBenefit | C30: related | D30: claim--> | H30: 0..1 | I30: Reference(Claim) | J30: Reference to the related claim
B31: ExplanationOfBenefit | C31: related | D31: relationship | H31: 0..1 | I31: CodeableConcept | J31: How the reference claim is related | K31: New(111, 112)
B32: ExplanationOfBenefit | C32: related | D32: relationship | J32: Example Related Claim Relationship Codes (Example) | K32: New(111, 112) | N32: values set Example Related Claim Relationship Codes prior | replaced by request adding replaced by or merged
B33: ExplanationOfBenefit | C33: related | D33: reference | H33: 0..1 | I33: Identifier | J33: File or case reference | K33: 111, 112
B34: ExplanationOfBenefit | C34: prescription--> | H34: 0..1 | I34: Reference(MedicationRequest| VisionPrescription) | J34: Prescription authorizing services or products
B35: ExplanationOfBenefit | C35: originalPrescription--> | H35: 0..1 | I35: Reference(MedicationRequest) | J35: Original prescription if superceded by fulfiller
B36: ExplanationOfBenefit | C36: payee | H36: 1..1 | I36: BackboneElement | J36: Recipient of benefits payable | K36: 120
B37: ExplanationOfBenefit | C37: payee | D37: type | H37: 1..1 | I37: CodeableConcept | J37: Category of recipient | K37: 120 | L37: ='Data Element Index'!$C$295 -> Claim payee type code
B38: ExplanationOfBenefit | C38: payee | D38: type | J38: PayeeType (Required) | K38: 120 | L38: ='Data Element Index'!$C$294 -> Claim payee type code | N38: subscriber | provider | beneficiary | other
B39: ExplanationOfBenefit | C39: payee | D39: party--> | H39: 1..1 | I39: Reference(Organization | Practioner | Patient) | J39: Recipient reference | K39: Ref (121) | L39: ='Data Element Index'!$C$300 -> Claim payee
B40: ExplanationOfBenefit | C40: referral--> | H40: 0..1 | I40: Reference(ServiceRequest) | J40: Treatment Referral
...

Sheet EOB Professional&Non-Clinician
A1: Slice | B1: L0 | C1: L1 | D1: L2 | E1: L3 | F1: L4 | G1: Flag | H1: Cardinality | I1: DataType / Value Set | J1: Description | K1: CPCDS MapID | L1: CARIN CPCDS Data Element Name | M1: Cardinality / DataType | N1: Value Set Comments | O1: Working Note
B2: ExplanationOfBenefit | G2: TU | I2: DomainResource | J2: Explanation of Benefit resource
B3: ExplanationOfBenefit | J3: Elements defined in Ancestors: id, meta, implicitRules, language, text, contained, extension, modifierExtension
B4: ExplanationOfBenefit | C4: identifier | H4: 1..* | I4: Identifier | J4: Business Identifier for the resource | K4: ='Data Element Index'!$A$173 -> 35 | L4: ='Data Element Index'!$C$173 -> Payer claim unique identifier
B5: ExplanationOfBenefit | C5: identifier | D5: type | H5: 1..* | I5: CodeableConcept | J5: Description of identifier | K5: ='Data Element Index'!$A$425 -> 183 | L5: ='Data Element Index'!$C$425 -> Claim Identifier Type | M5: [1..1] | N5: value = uc and those in code system Identfiertype
B6: ExplanationOfBenefit | C6: identifier | D6: type | J6: IdentifierType (Extensible) | K6: ='Data Element Index'!$A$425 -> 183 | L6: ='Data Element Index'!$C$425 -> Claim Identifier Type
B7: ExplanationOfBenefit | C7: status | G7: ?!Σ | H7: 1..1 | I7: code | J7: active | cancelled | draft | entered-in-error | K7: 140 | L7: ='Data Element Index'!$C$321 -> Claim processing status code | N7: value = active | cancelled
B8: ExplanationOfBenefit | C8: status | J8: ExplanationOfBenefitStatus (Required) | K8: New
B9: ExplanationOfBenefit | C9: type | G9: Σ | H9: 1..1 | I9: CodeableConcept | J9: Category or discipline | K9: 16 | L9: ='Data Element Index'!$C$44 -> Claim type | N9: values: professional | vision
B10: ExplanationOfBenefit | C10: type | J10: Claim Type Codes (Extensible) | K10: 16 | L10: ='Data Element Index'!$C$44 -> Claim type | N10: http://terminology.hl7.org/CodeSystem/claim-type | O10: These define the Claims profiles (there is also a Coverage profile).
B11: ExplanationOfBenefit | C11: subtype | H11: 0..1 | I11: CodeableConcept | J11: More granular claim type | K11: ='Data Element Index'!$E$40 -> Removed from scope | M11: [1..1] (CD-CHAR(14)) | N11: values: Professional Inpatient | Professional Outpatient | Non-Physician Inpatient | Non-Physician Outpatient | O11: CPCDS: Removed from scope
B12: ExplanationOfBenefit | C12: subtype | J12: Example Claim SubType Codes (Example) | K12: ='Data Element Index'!$E$40 -> Removed from scope | M12: [1..1] (CD-CHAR(14))
B13: ExplanationOfBenefit | C13: use | G13: Σ | H13: 1..1 | I13: code | J13: claim | preauthorization | predetermination | K13: New | N13: value = claim
B14: ExplanationOfBenefit | C14: use | J14: Use (Required)
B15: ExplanationOfBenefit | C15: patient--> | G15: Σ | H15: 1..1 | I15: Reference(Patient) | J15: The recipient of the products and services | K15: Ref (1) | L15: ='Data Element Index'!$C$2 -> Member id | O15: Refer to the Implementation Guide for reference Resource support.
B16: ExplanationOfBenefit | C16: billablePeriod | G16: Σ | H16: 0..1 | I16: Period | J16: Relevant time frame for the claim | K16: 177, 178 | L16: Statement From Date Statement Through Date | M16: [1..1] (TS8) | N16: period.start period.end
B17: ExplanationOfBenefit | C17: created | G17: Σ | H17: 1..1 | I17: dateTime | J17: Adjudication date | K17: 179 | L17: ='Data Element Index'!$C$413 -> Adjudication Date | M17: [1..1] (TS8) | O17: Date the claim was adjudicated
B18: ExplanationOfBenefit | C18: enterer--> | H18: 0..1 | I18: Reference(Practitioner | PractitionerRole) | J18: Author of the claim
B19: ExplanationOfBenefit | C19: insurer--> | G19: Σ | H19: 1..1 | I19: Reference(Organization) | J19: Party responsible for reimbursement | K19: Ref (2, 5) | L19: ='Data Element Index'!$C$13 -> Claim payer Identifier | N19: Organization.identifier | O19: Same as insurance.coverage.organization. Party responsible for reimbursing the provider.
B20: ExplanationOfBenefit | C20: insurer--> | G20: Σ | H20: 1..1 | I20: Reference(Organization) | J20: Party responsible for reimbursement | K20: Ref (175) | L20: ='Data Element Index'!$C$395 -> Claim payer Name | N20: Organization.name | O20: Same as insurance.coverage.organization. Party responsible for reimbursing the provider.
B21: ExplanationOfBenefit | C21: provider--> | G21: Σ | H21: 1..1 | I21: Reference(PractionerRole) | J21: Party responsible for the claim | M21: [0..1] (CD-CHAR(5)) | N21: Organization.address.zipcode
B22: ExplanationOfBenefit | C22: provider--> | G22: Σ | H22: 1..1 | I22: Reference(Practitioner | Organization) | J22: Party responsible for the claim | K22: Ref (94) | L22: ='Data Element Index'!$C$234 -> Claim billing provider NPI
B23: ExplanationOfBenefit | C23: provider--> | G23: Σ | H23: 1..1 | I23: Reference(Practitioner | Organization) | J23: Party responsible for the claim | K23: Ref (167) | L23: ='Data Element Index'!$C$369 -> Claim billing provider name
B24: ExplanationOfBenefit | C24: priority | H24: 0..1 | I24: CodeableConcept | J24: Desired processing urgency
B25: ExplanationOfBenefit | C25: priority | J25: ProcessPriority
B26: ExplanationOfBenefit | C26: fundsReservedRequested | H26: 0..1 | I26: CodeableConcept | J26: For whom to reserve funds
B27: ExplanationOfBenefit | C27: fundsReservedRequested | J27: FundsReserve (Example)
B28: ExplanationOfBenefit | C28: fundsReserve | H28: 0..1 | I28: CodeableConcept | J28: Funds reserved status
B29: ExplanationOfBenefit | C29: fundsReserve | J29: FundsReserve (Example)
B30: ExplanationOfBenefit | C30: related | H30: 0..* | I30: BackboneElement | J30: Prior or corollary claims | K30: 111, 112 | L30: Claim adjusted from identifier Claim adjusted to identifier
B31: ExplanationOfBenefit | C31: related | D31: claim--> | H31: 0..1 | I31: Reference(Claim) | J31: Reference to the related claim
B32: ExplanationOfBenefit | C32: related | D32: relationship | H32: 0..1 | I32: CodeableConcept | J32: How the reference claim is related | K32: New(111, 112)
B33: ExplanationOfBenefit | C33: related | D33: relationship | J33: Example Related Claim Relationship Codes (Example) | K33: New(111, 112) | N33: values set Example Related Claim Relationship Codes prior | replaced by request adding replaced by or merged
B34: ExplanationOfBenefit | C34: related | D34: reference | H34: 0..1 | I34: Identifier | J34: File or case reference | K34: 111, 112
B35: ExplanationOfBenefit | C35: prescription--> | H35: 0..1 | I35: Reference(MedicationRequest| VisionPrescription) | J35: Prescription authorizing services or products
B36: ExplanationOfBenefit | C36: originalPrescription--> | H36: 0..1 | I36: Reference(MedicationRequest) | J36: Original prescription if superceded by fulfiller
B37: ExplanationOfBenefit | C37: payee | H37: 1..1 | I37: BackboneElement | J37: Recipient of benefits payable | K37: 120
B38: ExplanationOfBenefit | C38: payee | D38: type | H38: 1..1 | I38: CodeableConcept | J38: Category of recipient | K38: 120 | L38: ='Data Element Index'!$C$296 -> Claim payee type code
B39: ExplanationOfBenefit | C39: payee | D39: type | J39: PayeeType (Required) | K39: 120 | L39: ='Data Element Index'!$C$294 -> Claim payee type code | N39: subscriber | provider | beneficiary | other
B40: ExplanationOfBenefit | C40: payee | D40: party--> | H40: 1..1 | I40: Reference(Organization | Practioner | Patient) | J40: Recipient reference | K40: Ref (121) | L40: ='Data Element Index'!$C$301 -> Claim payee
...

Sheet EOB Pharmacy
A1: Slice | B1: L0 | C1: L1 | D1: L2 | E1: L3 | F1: L4 | G1: Flag | H1: Cardinality | I1: DataType / Value Set | J1: Description | K1: CPCDS MapID | L1: CARIN CPCDS Data Element Name | M1: Cardinality / DataType | N1: Value Set Comments | O1: Working Note
B2: ExplanationOfBenefit | G2: TU | I2: DomainResource | J2: Explanation of Benefit resource
B3: ExplanationOfBenefit | J3: Elements defined in Ancestors: id, meta, implicitRules, language, text, contained, extension, modifierExtension
B4: ExplanationOfBenefit | C4: identifier | H4: 1..* | I4: Identifier | J4: Business Identifier for the resource | K4: 35 | L4: ='Data Element Index'!$C$174 -> RX service reference number
B5: ExplanationOfBenefit | C5: identifier | D5: type | H5: 1..* | I5: CodeableConcept | J5: Description of identifier | K5: ='Data Element Index'!$A$426 -> 183 | L5: ='Data Element Index'!$C$426 -> Claim Identifier Type | M5: [1..1] | N5: value = uc and those in code system Identfiertype
B6: ExplanationOfBenefit | C6: identifier | D6: type | J6: IdentifierType (Extensible) | K6: ='Data Element Index'!$A$426 -> 183 | L6: ='Data Element Index'!$C$426 -> Claim Identifier Type
B7: ExplanationOfBenefit | C7: status | G7: ?!Σ | H7: 1..1 | I7: code | J7: active | cancelled | draft | entered-in-error | K7: 140 | L7: ='Data Element Index'!$C$322 -> Claim processing status code | N7: value = active | cancelled
B8: ExplanationOfBenefit | C8: status | J8: ExplanationOfBenefitStatus (Required) | K8: New
B9: ExplanationOfBenefit | C9: type | G9: Σ | H9: 1..1 | I9: CodeableConcept | J9: Category or discipline | K9: 16 | L9: ='Data Element Index'!$C$45 -> Claim type | N9: values: Pharmacy
B10: ExplanationOfBenefit | C10: type | J10: Claim Type Codes (Extensible) | K10: 16 | L10: ='Data Element Index'!$C$45 -> Claim type | N10: http://terminology.hl7.org/CodeSystem/claim-type | O10: These define the Claims profiles (there is also a Coverage profile).
B11: ExplanationOfBenefit | C11: subtype | H11: 0..1 | I11: CodeableConcept | J11: More granular claim type | K11: ='Data Element Index'!$E$41 -> Removed from scope | M11: [1..1] (CD-CHAR(14)) | N11: values: Pharmacy | O11: CPCDS: Removed from scope
B12: ExplanationOfBenefit | C12: subtype | J12: Example Claim SubType Codes (Example) | K12: ='Data Element Index'!$E$41 -> Removed from scope | M12: [1..1] (CD-CHAR(14))
B13: ExplanationOfBenefit | C13: use | G13: Σ | H13: 1..1 | I13: code | J13: claim | preauthorization | predetermination | K13: New | N13: value = claim
B14: ExplanationOfBenefit | C14: use | J14: Use (Required)
B15: ExplanationOfBenefit | C15: patient--> | G15: Σ | H15: 1..1 | I15: Reference(Patient) | J15: The recipient of the products and services | K15: Ref (1) | L15: ='Data Element Index'!$C$2 -> Member id | O15: Refer to the Implementation Guide for reference Resource support.
B16: ExplanationOfBenefit | C16: billablePeriod | G16: Σ | H16: 0..1 | I16: Period | J16: Relevant time frame for the claim
B17: ExplanationOfBenefit | C17: created | G17: Σ | H17: 1..1 | I17: dateTime | J17: Adjudication date | K17: 179 | L17: ='Data Element Index'!$C$414 -> Adjudication Date | M17: [1..1] (TS8) | O17: Date the claim was adjudicated
B18: ExplanationOfBenefit | C18: enterer--> | H18: 0..1 | I18: Reference(Practitioner | PractitionerRole) | J18: Author of the claim
B19: ExplanationOfBenefit | C19: insurer--> | G19: Σ | H19: 1..1 | I19: Reference(Organization) | J19: Party responsible for reimbursement | K19: Ref (2, 5) | L19: ='Data Element Index'!$C$15 -> Claim payer Identifier | N19: Organization.identifier | O19: Same as insurance.coverage.organization. Party responsible for reimbursing the provider.
B20: ExplanationOfBenefit | C20: insurer--> | G20: Σ | H20: 1..1 | I20: Reference(Organization) | J20: Party responsible for reimbursement | K20: Ref (175) | L20: ='Data Element Index'!$C$397 -> Claim payer Name | N20: Organization.name | O20: Same as insurance.coverage.organization. Party responsible for reimbursing the provider.
B21: ExplanationOfBenefit | C21: provider--> | G21: Σ | H21: 1..1 | I21: Reference(Practitioner | Organization) | J21: Party responsible for the claim | K21: Ref (94) | L21: ='Data Element Index'!$C$232 -> Claim billing provider NPI
B22: ExplanationOfBenefit | C22: provider--> | G22: Σ | H22: 1..1 | I22: Reference(Organization) | J22: Party responsible for the claim | K22: Ref (167) | L22: ='Data Element Index'!$C$369 -> Claim billing provider name
B23: ExplanationOfBenefit | C23: priority | H23: 0..1 | I23: CodeableConcept | J23: Desired processing urgency
B24: ExplanationOfBenefit | C24: priority | J24: ProcessPriority
B25: ExplanationOfBenefit | C25: fundsReservedRequested | H25: 0..1 | I25: CodeableConcept | J25: For whom to reserve funds
B26: ExplanationOfBenefit | C26: fundsReservedRequested | J26: FundsReserve (Example)
B27: ExplanationOfBenefit | C27: fundsReserve | H27: 0..1 | I27: CodeableConcept | J27: Funds reserved status
B28: ExplanationOfBenefit | C28: fundsReserve | J28: FundsReserve (Example)
B29: ExplanationOfBenefit | C29: related | H29: 0..* | I29: BackboneElement | J29: Prior or corollary claims | K29: 111, 112 | L29: Claim adjusted from identifier Claim adjusted to identifier
B30: ExplanationOfBenefit | C30: related | D30: claim--> | H30: 0..1 | I30: Reference(Claim) | J30: Reference to the related claim
B31: ExplanationOfBenefit | C31: related | D31: relationship | H31: 0..1 | I31: CodeableConcept | J31: How the reference claim is related | K31: New(111, 112)
B32: ExplanationOfBenefit | C32: related | D32: relationship | J32: Example Related Claim Relationship Codes (Example) | K32: New(111, 112) | N32: values set Example Related Claim Relationship Codes prior | replaced by request adding replaced by or merged
B33: ExplanationOfBenefit | C33: related | D33: reference | H33: 0..1 | I33: Identifier | J33: File or case reference | K33: 111, 112
B34: ExplanationOfBenefit | C34: prescription--> | H34: 0..1 | I34: Reference(MedicationRequest| VisionPrescription) | J34: Prescription authorizing services or products
B35: ExplanationOfBenefit | C35: originalPrescription--> | H35: 0..1 | I35: Reference(MedicationRequest) | J35: Original prescription if superceded by fulfiller
B36: ExplanationOfBenefit | C36: payee | H36: 1..1 | I36: BackboneElement | J36: Recipient of benefits payable | K36: 120
B37: ExplanationOfBenefit | C37: payee | D37: type | H37: 1..1 | I37: CodeableConcept | J37: Category of recipient | K37: 120 | L37: ='Data Element Index'!$C$297 -> Claim payee type code
B38: ExplanationOfBenefit | C38: payee | D38: type | J38: PayeeType (Required) | K38: 120 | L38: ='Data Element Index'!$C$294 -> Claim payee type code | N38: subscriber | provider | beneficiary | other
B39: ExplanationOfBenefit | C39: payee | D39: party--> | H39: 1..1 | I39: Reference(Organization | Practioner | Patient) | J39: Recipient reference | K39: Ref (121) | L39: ='Data Element Index'!$C$299 -> Claim payee
B40: ExplanationOfBenefit | C40: referral--> | H40: 0..1 | I40: Reference(ServiceRequest) | J40: Treatment Referral
...

Sheet EOB Oral
A1: Slice | B1: L0 | C1: L1 | D1: L2 | E1: L3 | F1: L4 | G1: Flag | H1: Cardinality | I1: DataType / Value Set | J1: Description | K1: CPCDS MapID | L1: CARIN CPCDS Data Element Name | M1: Cardinality / DataType | N1: Value Set Comments | O1: Working Note
B2: ExplanationOfBenefit | G2: TU | I2: DomainResource | J2: Explanation of Benefit resource
B3: ExplanationOfBenefit | J3: Elements defined in Ancestors: id, meta, implicitRules, language, text, contained, extension, modifierExtension
B4: ExplanationOfBenefit | C4: identifier | H4: 1..* | I4: Identifier | J4: Business Identifier for the resource | K4: ='Data Element Index'!$A$175 -> 35 | L4: ='Data Element Index'!$C$175 -> Payer claim unique identifier
